BEGIN:VCALENDAR
VERSION:2.0
PRODID:-//hacksw/handcal//NONSGML v1.0//EN
BEGIN:VEVENT
DTSTAMP:20261005T233000Z
DTSTART:20261005T233000Z
DTEND:20261006T013000Z

SUMMARY:An Evening with David Sedaris
DESCRIPTION:David Sedaris, America’s best-selling humorist and social satirist, returns following publication of his most recent book of short stories, The Land and Its People. In his customary sartorial and humorous manner, David will make you laugh and think in equal measures, with all new, unpublished stories and commentary. As always, the reading will be accompanied by a pre and post-show book signing. A Presale will run from Wednesday April 22 through Thursday, April 30 - tickets will go on sale on Friday, May 1.SIGN UP FOR PRESALE ACCESS
END:VEVENT
END:VCALENDAR